BEGIN:VCALENDAR
VERSION:2.0
PRODID:-//Allen Texas is Great - ECPv5.5.0//NONSGML v1.0//EN
CALSCALE:GREGORIAN
METHOD:PUBLISH
X-WR-CALNAME:Allen Texas is Great
X-ORIGINAL-URL:https://allenisgreat.com
X-WR-CALDESC:Events for Allen Texas is Great
BEGIN:VTIMEZONE
TZID:America/Chicago
BEGIN:DAYLIGHT
TZOFFSETFROM:-0600
TZOFFSETTO:-0500
TZNAME:CDT
DTSTART:20210314T080000
END:DAYLIGHT
BEGIN:STANDARD
TZOFFSETFROM:-0500
TZOFFSETTO:-0600
TZNAME:CST
DTSTART:20211107T070000
END:STANDARD
END:VTIMEZONE
BEGIN:VEVENT
DTSTART;TZID=America/Chicago:20210501T070000
DTEND;TZID=America/Chicago:20210501T190000
DTSTAMP:20260419T092810
CREATED:20210214T045616Z
LAST-MODIFIED:20210214T045616Z
UID:155-1619852400-1619895600@allenisgreat.com
SUMMARY:Election Day
DESCRIPTION:Designated polling locations in Allen\nCity of Allen has designated the polling locations listed below for Election Day. Allen voters may also vote at any countywide voting center in Collin County. \nAllen Municipal Court and Parks and Recreation Building\nCommunity Room\n301 Century Parkway\nAllen\, Texas 75013\nGoogle map directions \nAllen ISD Service Center\nMulti-purpose Room\n1451 N. Watters Road\nAllen\, Texas 75013\nGoogle map directions
URL:https://allenisgreat.com/event/election-day/
LOCATION:Community Room\, 301 Century Pkwy\, Allen\, TX\, 75013\, United States
END:VEVENT
END:VCALENDAR